BEGIN:VCALENDAR
VERSION:2.0
PRODID:-//Ashland County Park District - ECPv6.5.0//NONSGML v1.0//EN
CALSCALE:GREGORIAN
METHOD:PUBLISH
X-WR-CALNAME:Ashland County Park District
X-ORIGINAL-URL:https://www.ashlandcountyparks.com
X-WR-CALDESC:Events for Ashland County Park District
REFRESH-INTERVAL;VALUE=DURATION:PT1H
X-Robots-Tag:noindex
X-PUBLISHED-TTL:PT1H
BEGIN:VTIMEZONE
TZID:America/New_York
BEGIN:DAYLIGHT
TZOFFSETFROM:-0500
TZOFFSETTO:-0400
TZNAME:EDT
DTSTART:20240310T070000
END:DAYLIGHT
BEGIN:STANDARD
TZOFFSETFROM:-0400
TZOFFSETTO:-0500
TZNAME:EST
DTSTART:20241103T060000
END:STANDARD
END:VTIMEZONE
BEGIN:VEVENT
DTSTART;TZID=America/New_York:20241027T180000
DTEND;TZID=America/New_York:20241027T200000
DTSTAMP:20260422T092841
CREATED:20241015T175900Z
LAST-MODIFIED:20241015T181858Z
UID:10000191-1730052000-1730059200@www.ashlandcountyparks.com
SUMMARY:Ashland Historical Society - Halloween House at Freer Home!
DESCRIPTION:October 17th\, 18th\, 19th\, 20th\, 26\, and 27th – 6-8 pm.
URL:https://www.ashlandcountyparks.com/event/ashland-historical-society-halloween-house-at-freer-home/2024-10-27/
LOCATION:Freer Home\, 1260 Center Street\, Ashland\, OH\, 44805
END:VEVENT
BEGIN:VEVENT
DTSTART;TZID=America/New_York:20241026T180000
DTEND;TZID=America/New_York:20241026T200000
DTSTAMP:20260422T092841
CREATED:20241015T175900Z
LAST-MODIFIED:20241015T181858Z
UID:10000190-1729965600-1729972800@www.ashlandcountyparks.com
SUMMARY:Ashland Historical Society - Halloween House at Freer Home!
DESCRIPTION:October 17th\, 18th\, 19th\, 20th\, 26\, and 27th – 6-8 pm.
URL:https://www.ashlandcountyparks.com/event/ashland-historical-society-halloween-house-at-freer-home/2024-10-26/
LOCATION:Freer Home\, 1260 Center Street\, Ashland\, OH\, 44805
END:VEVENT
BEGIN:VEVENT
DTSTART;TZID=America/New_York:20241020T180000
DTEND;TZID=America/New_York:20241020T200000
DTSTAMP:20260422T092841
CREATED:20241015T175900Z
LAST-MODIFIED:20241015T181858Z
UID:10000189-1729447200-1729454400@www.ashlandcountyparks.com
SUMMARY:Ashland Historical Society - Halloween House at Freer Home!
DESCRIPTION:October 17th\, 18th\, 19th\, 20th\, 26\, and 27th – 6-8 pm.
URL:https://www.ashlandcountyparks.com/event/ashland-historical-society-halloween-house-at-freer-home/2024-10-20/
LOCATION:Freer Home\, 1260 Center Street\, Ashland\, OH\, 44805
END:VEVENT
BEGIN:VEVENT
DTSTART;TZID=America/New_York:20241019T180000
DTEND;TZID=America/New_York:20241019T200000
DTSTAMP:20260422T092841
CREATED:20241015T175900Z
LAST-MODIFIED:20241015T181858Z
UID:10000188-1729360800-1729368000@www.ashlandcountyparks.com
SUMMARY:Ashland Historical Society - Halloween House at Freer Home!
DESCRIPTION:October 17th\, 18th\, 19th\, 20th\, 26\, and 27th – 6-8 pm.
URL:https://www.ashlandcountyparks.com/event/ashland-historical-society-halloween-house-at-freer-home/2024-10-19/
LOCATION:Freer Home\, 1260 Center Street\, Ashland\, OH\, 44805
END:VEVENT
BEGIN:VEVENT
DTSTART;TZID=America/New_York:20241018T180000
DTEND;TZID=America/New_York:20241018T200000
DTSTAMP:20260422T092841
CREATED:20241015T175900Z
LAST-MODIFIED:20241015T181858Z
UID:10000187-1729274400-1729281600@www.ashlandcountyparks.com
SUMMARY:Ashland Historical Society - Halloween House at Freer Home!
DESCRIPTION:October 17th\, 18th\, 19th\, 20th\, 26\, and 27th – 6-8 pm.
URL:https://www.ashlandcountyparks.com/event/ashland-historical-society-halloween-house-at-freer-home/2024-10-18/
LOCATION:Freer Home\, 1260 Center Street\, Ashland\, OH\, 44805
END:VEVENT
BEGIN:VEVENT
DTSTART;TZID=America/New_York:20241017T180000
DTEND;TZID=America/New_York:20241017T180000
DTSTAMP:20260422T092841
CREATED:20241015T175900Z
LAST-MODIFIED:20241015T181858Z
UID:10000186-1729188000-1729188000@www.ashlandcountyparks.com
SUMMARY:Ashland Historical Society - Halloween House at Freer Home!
DESCRIPTION:October 17th\, 18th\, 19th\, 20th\, 26\, and 27th – 6-8 pm.
URL:https://www.ashlandcountyparks.com/event/ashland-historical-society-halloween-house-at-freer-home/2024-10-17/
LOCATION:Freer Home\, 1260 Center Street\, Ashland\, OH\, 44805
END:VEVENT
END:VCALENDAR