BEGIN:VCALENDAR
VERSION:2.0
PRODID:-//Ashland County Park District - ECPv6.5.0//NONSGML v1.0//EN
CALSCALE:GREGORIAN
METHOD:PUBLISH
X-WR-CALNAME:Ashland County Park District
X-ORIGINAL-URL:https://www.ashlandcountyparks.com
X-WR-CALDESC:Events for Ashland County Park District
REFRESH-INTERVAL;VALUE=DURATION:PT1H
X-Robots-Tag:noindex
X-PUBLISHED-TTL:PT1H
BEGIN:VTIMEZONE
TZID:America/New_York
BEGIN:DAYLIGHT
TZOFFSETFROM:-0500
TZOFFSETTO:-0400
TZNAME:EDT
DTSTART:20240310T070000
END:DAYLIGHT
BEGIN:STANDARD
TZOFFSETFROM:-0400
TZOFFSETTO:-0500
TZNAME:EST
DTSTART:20241103T060000
END:STANDARD
END:VTIMEZONE
BEGIN:VEVENT
DTSTART;TZID=America/New_York:20240608T100000
DTEND;TZID=America/New_York:20240608T130000
DTSTAMP:20260424T051410
CREATED:20240515T173342Z
LAST-MODIFIED:20240515T173342Z
UID:10000112-1717840800-1717851600@www.ashlandcountyparks.com
SUMMARY:Touch a Truck!
DESCRIPTION:The Ashland County Park District Maintenance staff will be bringing some park vehicles for everyone to experience!\nSound sensitive visitors\, 10am-11am\, is a quiet hour where no horn honking is permitted. Many local organizations are donating their time to exhibit their vehicles during the event. If you attend you are likely to see police cars\, firetrucks\, tow trucks\, buses\, construction vehicles\, snow plows\, and more!
URL:https://www.ashlandcountyparks.com/event/touch-a-truck/
LOCATION:OH
END:VEVENT
BEGIN:VEVENT
DTSTART;TZID=America/New_York:20240601T080000
DTEND;TZID=America/New_York:20240601T120000
DTSTAMP:20260424T051410
CREATED:20240528T180534Z
LAST-MODIFIED:20240528T180534Z
UID:10000114-1717228800-1717243200@www.ashlandcountyparks.com
SUMMARY:Fin Feather Fur Kid's Day!
DESCRIPTION:Kid’s Day: June 1\, 2024\nFin Feather Fur Outfitters & Ashland County Wildlife Conservation League is happy to announce the 2024 Kid’s Day is on June 1st and sign ups are now available at the Ashland Fin store! You must sign up your child in person at the Ashland Fin store (we will not take sign ups over the phone). Children ages 6-12 are eligible! Spots are limited and it is first come first serve!
URL:https://www.ashlandcountyparks.com/event/fin-feather-fur-kids-day/
LOCATION:Ashland County Wildlife Conservation League\, 1930 Co Rd 1035\, Ashland\, OH\, 44805
END:VEVENT
END:VCALENDAR